BEGIN:VCALENDAR
VERSION:2.0
PRODID:-//Free Canna Cards - ECPv6.15.13.1//NONSGML v1.0//EN
CALSCALE:GREGORIAN
METHOD:PUBLISH
X-WR-CALNAME:Free Canna Cards
X-ORIGINAL-URL:https://freecannacards.com
X-WR-CALDESC:Events for Free Canna Cards
REFRESH-INTERVAL;VALUE=DURATION:PT1H
X-Robots-Tag:noindex
X-PUBLISHED-TTL:PT1H
BEGIN:VTIMEZONE
TZID:America/New_York
BEGIN:DAYLIGHT
TZOFFSETFROM:-0500
TZOFFSETTO:-0400
TZNAME:EDT
DTSTART:20240310T070000
END:DAYLIGHT
BEGIN:STANDARD
TZOFFSETFROM:-0400
TZOFFSETTO:-0500
TZNAME:EST
DTSTART:20241103T060000
END:STANDARD
BEGIN:DAYLIGHT
TZOFFSETFROM:-0500
TZOFFSETTO:-0400
TZNAME:EDT
DTSTART:20250309T070000
END:DAYLIGHT
BEGIN:STANDARD
TZOFFSETFROM:-0400
TZOFFSETTO:-0500
TZNAME:EST
DTSTART:20251102T060000
END:STANDARD
BEGIN:DAYLIGHT
TZOFFSETFROM:-0500
TZOFFSETTO:-0400
TZNAME:EDT
DTSTART:20260308T070000
END:DAYLIGHT
BEGIN:STANDARD
TZOFFSETFROM:-0400
TZOFFSETTO:-0500
TZNAME:EST
DTSTART:20261101T060000
END:STANDARD
END:VTIMEZONE
BEGIN:VEVENT
DTSTART;TZID=America/New_York:20250809T090000
DTEND;TZID=America/New_York:20250809T180000
DTSTAMP:20260421T031928
CREATED:20250710T072914Z
LAST-MODIFIED:20250710T134224Z
UID:563-1754730000-1754762400@freecannacards.com
SUMMARY:AC Hotel St Johns Town Center
DESCRIPTION:Saturday 8/9 AC Hotel St Johns Town Center. 9am-6pm\, 5323 Big Island Drive\, Jacksonville\, FL 32246
URL:https://freecannacards.com/event/ac-hotel-st-johns-town-center/
LOCATION:AC Hotel Jacksonville St Johns Town Center\, 5323 Big Island Drive\, Jacksonville\, FL\, 32246
ATTACH;FMTTYPE=image/jpeg:https://freecannacards.com/wp-content/uploads/2025/07/ar-jaxae-jaxae-exterior-dusk-17985-36952_Feature-Hor.jpeg
END:VEVENT
END:VCALENDAR