BEGIN:VCALENDAR
VERSION:2.0
PRODID:-//Free Canna Cards - ECPv6.15.13.1//NONSGML v1.0//EN
CALSCALE:GREGORIAN
METHOD:PUBLISH
X-WR-CALNAME:Free Canna Cards
X-ORIGINAL-URL:https://freecannacards.com
X-WR-CALDESC:Events for Free Canna Cards
REFRESH-INTERVAL;VALUE=DURATION:PT1H
X-Robots-Tag:noindex
X-PUBLISHED-TTL:PT1H
BEGIN:VTIMEZONE
TZID:America/New_York
BEGIN:DAYLIGHT
TZOFFSETFROM:-0500
TZOFFSETTO:-0400
TZNAME:EDT
DTSTART:20240310T070000
END:DAYLIGHT
BEGIN:STANDARD
TZOFFSETFROM:-0400
TZOFFSETTO:-0500
TZNAME:EST
DTSTART:20241103T060000
END:STANDARD
BEGIN:DAYLIGHT
TZOFFSETFROM:-0500
TZOFFSETTO:-0400
TZNAME:EDT
DTSTART:20250309T070000
END:DAYLIGHT
BEGIN:STANDARD
TZOFFSETFROM:-0400
TZOFFSETTO:-0500
TZNAME:EST
DTSTART:20251102T060000
END:STANDARD
BEGIN:DAYLIGHT
TZOFFSETFROM:-0500
TZOFFSETTO:-0400
TZNAME:EDT
DTSTART:20260308T070000
END:DAYLIGHT
BEGIN:STANDARD
TZOFFSETFROM:-0400
TZOFFSETTO:-0500
TZNAME:EST
DTSTART:20261101T060000
END:STANDARD
END:VTIMEZONE
BEGIN:VEVENT
DTSTART;TZID=America/New_York:20250707T070000
DTEND;TZID=America/New_York:20250707T110000
DTSTAMP:20260421T131540
CREATED:20250701T180141Z
LAST-MODIFIED:20250710T073149Z
UID:114-1751871600-1751886000@freecannacards.com
SUMMARY:Stephen Marley - Babylon by Bus Summer 2025 W/ Jesse Royal - Ormand Beach
DESCRIPTION:Cannacard will be at the Stephen Marley Babylon by bus tour Ormond Beach on July 2nd 2025. Doors open 6:00 pm. Come get your free Medical Marijuana card\, we’ll have professional licensed doctors on site available for assistance. Destination Daytona Pavilion. 1651 N. US HWY 1 Ormond Beach\, FL 32174
URL:https://freecannacards.com/event/stephen-marley-babylon-by-bus-summer-2025-w-jesse-royal-ormand-beach/
LOCATION:FL
ATTACH;FMTTYPE=image/png:https://freecannacards.com/wp-content/uploads/2025/07/yrd6r.png
END:VEVENT
END:VCALENDAR