BEGIN:VCALENDAR
VERSION:2.0
PRODID:-//Free Canna Cards - ECPv6.15.13.1//NONSGML v1.0//EN
CALSCALE:GREGORIAN
METHOD:PUBLISH
X-ORIGINAL-URL:https://freecannacards.com
X-WR-CALDESC:Events for Free Canna Cards
REFRESH-INTERVAL;VALUE=DURATION:PT1H
X-Robots-Tag:noindex
X-PUBLISHED-TTL:PT1H
BEGIN:VTIMEZONE
TZID:America/New_York
BEGIN:DAYLIGHT
TZOFFSETFROM:-0500
TZOFFSETTO:-0400
TZNAME:EDT
DTSTART:20240310T070000
END:DAYLIGHT
BEGIN:STANDARD
TZOFFSETFROM:-0400
TZOFFSETTO:-0500
TZNAME:EST
DTSTART:20241103T060000
END:STANDARD
BEGIN:DAYLIGHT
TZOFFSETFROM:-0500
TZOFFSETTO:-0400
TZNAME:EDT
DTSTART:20250309T070000
END:DAYLIGHT
BEGIN:STANDARD
TZOFFSETFROM:-0400
TZOFFSETTO:-0500
TZNAME:EST
DTSTART:20251102T060000
END:STANDARD
BEGIN:DAYLIGHT
TZOFFSETFROM:-0500
TZOFFSETTO:-0400
TZNAME:EDT
DTSTART:20260308T070000
END:DAYLIGHT
BEGIN:STANDARD
TZOFFSETFROM:-0400
TZOFFSETTO:-0500
TZNAME:EST
DTSTART:20261101T060000
END:STANDARD
BEGIN:DAYLIGHT
TZOFFSETFROM:-0500
TZOFFSETTO:-0400
TZNAME:EDT
DTSTART:20270314T070000
END:DAYLIGHT
BEGIN:STANDARD
TZOFFSETFROM:-0400
TZOFFSETTO:-0500
TZNAME:EST
DTSTART:20271107T060000
END:STANDARD
END:VTIMEZONE
BEGIN:VEVENT
DTSTART;TZID=America/New_York:20251230T110000
DTEND;TZID=America/New_York:20251230T170000
DTSTAMP:20260420T213556
CREATED:20250820T033929Z
LAST-MODIFIED:20251227T204335Z
UID:888-1767092400-1767114000@freecannacards.com
SUMMARY:The Villages/Summerfield - Insa Cannabis
DESCRIPTION:EVERY Tuesday (re-occurring) The Villages/Summerfield – Insa Cannabis 11am-5pm Located at: 11220 SE 179th Place Summerfield\, FL 34491 \n 
URL:https://freecannacards.com/event/summerfield-insa-cannabis-2-2-2-2-3-2-2-2-2-2-2-2-2-2-2-3-2-2-2-2-2-2/
LOCATION:Insa Cannabis\, 11220 SE 179th Place\, Summerfield\, FL\, 34491
END:VEVENT
BEGIN:VEVENT
DTSTART;TZID=America/New_York:20260101T150000
DTEND;TZID=America/New_York:20260101T200000
DTSTAMP:20260420T213556
CREATED:20251204T205826Z
LAST-MODIFIED:20251227T172851Z
UID:1000-1767279600-1767297600@freecannacards.com
SUMMARY:Lee Rd - Insa Cannabis
DESCRIPTION:EVERY Thursday (re-occurring) Lee Rd – Insa Cannabis 3pm – 8pm Located at: 640 Lee Rd\, Orlando\, FL 32810 \n 
URL:https://freecannacards.com/event/lee-rd-2-2-2-2-3-2-2-2-2-2-2-2-2-2-2-2-2-2-2-2-2-2-2-2-2-2-2-2-2-2-2-2-2-2-2/
LOCATION:Insa Cannabis Lee Road\, 640 Lee Rd\, Orlando\, FL\, 32810
END:VEVENT
BEGIN:VEVENT
DTSTART;TZID=America/New_York:20260103T100000
DTEND;TZID=America/New_York:20260103T160000
DTSTAMP:20260420T213556
CREATED:20251210T191156Z
LAST-MODIFIED:20251225T231409Z
UID:1058-1767434400-1767456000@freecannacards.com
SUMMARY:East Colonial - Insa Cannabis
DESCRIPTION:EVERY Saturday (re-occurring) East Colonial – Insa Cannabis 10am – 4pm Located at: 7500 E Colonial Dr\, Orlando\, FL 32807  \n 
URL:https://freecannacards.com/event/east-colonial-insa-cannabis-2-2/
LOCATION:FL
END:VEVENT
BEGIN:VEVENT
DTSTART;TZID=America/New_York:20260106T110000
DTEND;TZID=America/New_York:20260106T170000
DTSTAMP:20260420T213556
CREATED:20251204T205851Z
LAST-MODIFIED:20251227T172918Z
UID:1002-1767697200-1767718800@freecannacards.com
SUMMARY:The Villages/Summerfield - Insa Cannabis
DESCRIPTION:EVERY Tuesday (re-occurring) The Villages/Summerfield – Insa Cannabis 11am-5pm Located at: 11220 SE 179th Place Summerfield\, FL 34491 \n 
URL:https://freecannacards.com/event/summerfield-insa-cannabis-2-2-2-2-3-2-2-2-2-2-2-2-2-2-2-3-2-2-2-2-2-2-2/
LOCATION:Insa Cannabis\, 11220 SE 179th Place\, Summerfield\, FL\, 34491
END:VEVENT
BEGIN:VEVENT
DTSTART;TZID=America/New_York:20260108T150000
DTEND;TZID=America/New_York:20260108T200000
DTSTAMP:20260420T213556
CREATED:20251204T205936Z
LAST-MODIFIED:20251227T172948Z
UID:1004-1767884400-1767902400@freecannacards.com
SUMMARY:Lee Rd - Insa Cannabis
DESCRIPTION:EVERY Thursday (re-occurring) Lee Rd – Insa Cannabis 3pm – 8pm Located at: 640 Lee Rd\, Orlando\, FL 32810 \n 
URL:https://freecannacards.com/event/lee-rd-2-2-2-2-3-2-2-2-2-2-2-2-2-2-2-2-2-2-2-2-2-2-2-2-2-2-2-2-2-2-2-2-2-2-2-2/
LOCATION:Insa Cannabis Lee Road\, 640 Lee Rd\, Orlando\, FL\, 32810
END:VEVENT
BEGIN:VEVENT
DTSTART;TZID=America/New_York:20260110T100000
DTEND;TZID=America/New_York:20260110T160000
DTSTAMP:20260420T213556
CREATED:20251210T191216Z
LAST-MODIFIED:20251225T231414Z
UID:1060-1768039200-1768060800@freecannacards.com
SUMMARY:East Colonial - Insa Cannabis
DESCRIPTION:EVERY Saturday (re-occurring) East Colonial – Insa Cannabis 10am – 4pm Located at: 7500 E Colonial Dr\, Orlando\, FL 32807  \n 
URL:https://freecannacards.com/event/east-colonial-insa-cannabis-2-2-2/
LOCATION:FL
END:VEVENT
BEGIN:VEVENT
DTSTART;TZID=America/New_York:20260113T110000
DTEND;TZID=America/New_York:20260113T170000
DTSTAMP:20260420T213556
CREATED:20251204T210253Z
LAST-MODIFIED:20251227T173010Z
UID:1020-1768302000-1768323600@freecannacards.com
SUMMARY:The Villages/Summerfield - Insa Cannabis
DESCRIPTION:EVERY Tuesday (re-occurring) The Villages/Summerfield – Insa Cannabis 11am-5pm Located at: 11220 SE 179th Place Summerfield\, FL 34491 \n  \n \n\n 
URL:https://freecannacards.com/event/summerfield-insa-cannabis-2-2-2-2-3-2-2-2-2-2-2-2-2-2-2-3-2-2-2-2-2-2-2-2/
LOCATION:Insa Cannabis\, 11220 SE 179th Place\, Summerfield\, FL\, 34491
END:VEVENT
BEGIN:VEVENT
DTSTART;TZID=America/New_York:20260115T150000
DTEND;TZID=America/New_York:20260115T200000
DTSTAMP:20260420T213556
CREATED:20251204T205959Z
LAST-MODIFIED:20251227T173216Z
UID:1006-1768489200-1768507200@freecannacards.com
SUMMARY:Lee Rd - Insa Cannabis
DESCRIPTION:EVERY Thursday (re-occurring) Lee Rd – Insa Cannabis 3pm – 8pm Located at: 640 Lee Rd\, Orlando\, FL 32810 \n 
URL:https://freecannacards.com/event/lee-rd-2-2-2-2-3-2-2-2-2-2-2-2-2-2-2-2-2-2-2-2-2-2-2-2-2-2-2-2-2-2-2-2-2-2-2-2-2/
LOCATION:Insa Cannabis Lee Road\, 640 Lee Rd\, Orlando\, FL\, 32810
END:VEVENT
BEGIN:VEVENT
DTSTART;TZID=America/New_York:20260117T100000
DTEND;TZID=America/New_York:20260117T160000
DTSTAMP:20260420T213556
CREATED:20251210T191408Z
LAST-MODIFIED:20251225T231420Z
UID:1064-1768644000-1768665600@freecannacards.com
SUMMARY:East Colonial - Insa Cannabis
DESCRIPTION:EVERY Saturday (re-occurring) East Colonial – Insa Cannabis 10am – 4pm Located at: 7500 E Colonial Dr\, Orlando\, FL 32807  \n 
URL:https://freecannacards.com/event/east-colonial-insa-cannabis-2-2-2-3/
LOCATION:FL
END:VEVENT
BEGIN:VEVENT
DTSTART;TZID=America/New_York:20260120T110000
DTEND;TZID=America/New_York:20260120T170000
DTSTAMP:20260420T213556
CREATED:20251204T210415Z
LAST-MODIFIED:20251227T173230Z
UID:1022-1768906800-1768928400@freecannacards.com
SUMMARY:The Villages/Summerfield - Insa Cannabis
DESCRIPTION:EVERY Tuesday (re-occurring) The Villages/Summerfield – Insa Cannabis 11am-5pm Located at: 11220 SE 179th Place Summerfield\, FL 34491 \n 
URL:https://freecannacards.com/event/summerfield-insa-cannabis-2-2-2-2-3-2-2-2-2-2-2-2-2-2-2-3-2-2-2-2-2-2-2-2-2/
LOCATION:Insa Cannabis\, 11220 SE 179th Place\, Summerfield\, FL\, 34491
END:VEVENT
BEGIN:VEVENT
DTSTART;TZID=America/New_York:20260122T150000
DTEND;TZID=America/New_York:20260122T200000
DTSTAMP:20260420T213556
CREATED:20251204T210031Z
LAST-MODIFIED:20251227T173242Z
UID:1008-1769094000-1769112000@freecannacards.com
SUMMARY:Lee Rd - Insa Cannabis
DESCRIPTION:EVERY Thursday (re-occurring) Lee Rd – Insa Cannabis 3pm – 8pm Located at: 640 Lee Rd\, Orlando\, FL 32810 \n 
URL:https://freecannacards.com/event/lee-rd-2-2-2-2-3-2-2-2-2-2-2-2-2-2-2-2-2-2-2-2-2-2-2-2-2-2-2-2-2-2-2-2-2-2-2-2-2-2/
LOCATION:Insa Cannabis Lee Road\, 640 Lee Rd\, Orlando\, FL\, 32810
END:VEVENT
BEGIN:VEVENT
DTSTART;TZID=America/New_York:20260124T100000
DTEND;TZID=America/New_York:20260124T160000
DTSTAMP:20260420T213556
CREATED:20251210T191245Z
LAST-MODIFIED:20251225T231424Z
UID:1062-1769248800-1769270400@freecannacards.com
SUMMARY:East Colonial - Insa Cannabis
DESCRIPTION:EVERY Saturday (re-occurring) East Colonial – Insa Cannabis 10am – 4pm Located at: 7500 E Colonial Dr\, Orlando\, FL 32807  \n 
URL:https://freecannacards.com/event/east-colonial-insa-cannabis-2-2-2-2/
LOCATION:FL
END:VEVENT
BEGIN:VEVENT
DTSTART;TZID=America/New_York:20260127T110000
DTEND;TZID=America/New_York:20260127T170000
DTSTAMP:20260420T213556
CREATED:20251204T210505Z
LAST-MODIFIED:20251227T173255Z
UID:1024-1769511600-1769533200@freecannacards.com
SUMMARY:The Villages/Summerfield - Insa Cannabis
DESCRIPTION:EVERY Tuesday (re-occurring) The Villages/Summerfield – Insa Cannabis 11am-5pm Located at: 11220 SE 179th Place Summerfield\, FL 34491 \n 
URL:https://freecannacards.com/event/summerfield-insa-cannabis-2-2-2-2-3-2-2-2-2-2-2-2-2-2-2-3-2-2-2-2-2-2-2-2-2-2/
LOCATION:Insa Cannabis\, 11220 SE 179th Place\, Summerfield\, FL\, 34491
END:VEVENT
BEGIN:VEVENT
DTSTART;TZID=America/New_York:20260129T150000
DTEND;TZID=America/New_York:20260129T200000
DTSTAMP:20260420T213556
CREATED:20251204T210059Z
LAST-MODIFIED:20251227T173306Z
UID:1010-1769698800-1769716800@freecannacards.com
SUMMARY:Lee Rd - Insa Cannabis
DESCRIPTION:EVERY Thursday (re-occurring) Lee Rd – Insa Cannabis 3pm – 8pm Located at: 640 Lee Rd\, Orlando\, FL 32810 \n 
URL:https://freecannacards.com/event/lee-rd-2-2-2-2-3-2-2-2-2-2-2-2-2-2-2-2-2-2-2-2-2-2-2-2-2-2-2-2-2-2-2-2-2-2-2-2-2-2-2/
LOCATION:Insa Cannabis Lee Road\, 640 Lee Rd\, Orlando\, FL\, 32810
END:VEVENT
BEGIN:VEVENT
DTSTART;TZID=America/New_York:20260131T100000
DTEND;TZID=America/New_York:20260131T160000
DTSTAMP:20260420T213556
CREATED:20251210T191541Z
LAST-MODIFIED:20251225T231428Z
UID:1066-1769853600-1769875200@freecannacards.com
SUMMARY:East Colonial - Insa Cannabis
DESCRIPTION:EVERY Saturday (re-occurring) East Colonial – Insa Cannabis 10am – 4pm Located at: 7500 E Colonial Dr\, Orlando\, FL 32807  \n 
URL:https://freecannacards.com/event/east-colonial-insa-cannabis-2-2-2-2-2/
LOCATION:FL
END:VEVENT
BEGIN:VEVENT
DTSTART;TZID=America/New_York:20260203T110000
DTEND;TZID=America/New_York:20260203T170000
DTSTAMP:20260420T213556
CREATED:20251204T210733Z
LAST-MODIFIED:20251227T173316Z
UID:1028-1770116400-1770138000@freecannacards.com
SUMMARY:The Villages/Summerfield - Insa Cannabis
DESCRIPTION:EVERY Tuesday (re-occurring) The Villages/Summerfield – Insa Cannabis 11am-5pm Located at: 11220 SE 179th Place Summerfield\, FL 34491 \n 
URL:https://freecannacards.com/event/summerfield-insa-cannabis-2-2-2-2-3-2-2-2-2-2-2-2-2-2-2-3-2-2-2-2-2-2-2-2-2-2-3/
LOCATION:Insa Cannabis\, 11220 SE 179th Place\, Summerfield\, FL\, 34491
END:VEVENT
BEGIN:VEVENT
DTSTART;TZID=America/New_York:20260205T150000
DTEND;TZID=America/New_York:20260205T200000
DTSTAMP:20260420T213556
CREATED:20251204T210127Z
LAST-MODIFIED:20251227T173330Z
UID:1012-1770303600-1770321600@freecannacards.com
SUMMARY:Lee Rd - Insa Cannabis
DESCRIPTION:EVERY Thursday (re-occurring) Lee Rd – Insa Cannabis 3pm – 8pm Located at: 640 Lee Rd\, Orlando\, FL 32810 \n 
URL:https://freecannacards.com/event/lee-rd-2-2-2-2-3-2-2-2-2-2-2-2-2-2-2-2-2-2-2-2-2-2-2-2-2-2-2-2-2-2-2-2-2-2-2-2-2-2-2-2/
LOCATION:Insa Cannabis Lee Road\, 640 Lee Rd\, Orlando\, FL\, 32810
END:VEVENT
BEGIN:VEVENT
DTSTART;TZID=America/New_York:20260207T100000
DTEND;TZID=America/New_York:20260207T160000
DTSTAMP:20260420T213556
CREATED:20251210T191559Z
LAST-MODIFIED:20251225T231432Z
UID:1068-1770458400-1770480000@freecannacards.com
SUMMARY:East Colonial - Insa Cannabis
DESCRIPTION:EVERY Saturday (re-occurring) East Colonial – Insa Cannabis 10am – 4pm Located at: 7500 E Colonial Dr\, Orlando\, FL 32807  \n 
URL:https://freecannacards.com/event/east-colonial-insa-cannabis-2-2-2-2-2-2/
LOCATION:FL
END:VEVENT
BEGIN:VEVENT
DTSTART;TZID=America/New_York:20260210T110000
DTEND;TZID=America/New_York:20260210T170000
DTSTAMP:20260420T213556
CREATED:20251204T210536Z
LAST-MODIFIED:20251227T173337Z
UID:1026-1770721200-1770742800@freecannacards.com
SUMMARY:The Villages/Summerfield - Insa Cannabis
DESCRIPTION:EVERY Tuesday (re-occurring) The Villages/Summerfield – Insa Cannabis 11am-5pm Located at: 11220 SE 179th Place Summerfield\, FL 34491 \n 
URL:https://freecannacards.com/event/summerfield-insa-cannabis-2-2-2-2-3-2-2-2-2-2-2-2-2-2-2-3-2-2-2-2-2-2-2-2-2-2-2/
LOCATION:Insa Cannabis\, 11220 SE 179th Place\, Summerfield\, FL\, 34491
END:VEVENT
BEGIN:VEVENT
DTSTART;TZID=America/New_York:20260212T150000
DTEND;TZID=America/New_York:20260212T200000
DTSTAMP:20260420T213556
CREATED:20251204T210149Z
LAST-MODIFIED:20251227T173349Z
UID:1014-1770908400-1770926400@freecannacards.com
SUMMARY:Lee Rd - Insa Cannabis
DESCRIPTION:EVERY Thursday (re-occurring) Lee Rd – Insa Cannabis 3pm – 8pm Located at: 640 Lee Rd\, Orlando\, FL 32810 \n 
URL:https://freecannacards.com/event/lee-rd-2-2-2-2-3-2-2-2-2-2-2-2-2-2-2-2-2-2-2-2-2-2-2-2-2-2-2-2-2-2-2-2-2-2-2-2-2-2-2-2-2/
LOCATION:Insa Cannabis Lee Road\, 640 Lee Rd\, Orlando\, FL\, 32810
END:VEVENT
BEGIN:VEVENT
DTSTART;TZID=America/New_York:20260214T100000
DTEND;TZID=America/New_York:20260214T160000
DTSTAMP:20260420T213556
CREATED:20251210T191617Z
LAST-MODIFIED:20251225T231436Z
UID:1070-1771063200-1771084800@freecannacards.com
SUMMARY:East Colonial - Insa Cannabis
DESCRIPTION:EVERY Saturday (re-occurring) East Colonial – Insa Cannabis 10am – 4pm Located at: 7500 E Colonial Dr\, Orlando\, FL 32807  \n 
URL:https://freecannacards.com/event/east-colonial-insa-cannabis-2-2-2-2-2-2-2/
LOCATION:FL
END:VEVENT
BEGIN:VEVENT
DTSTART;TZID=America/New_York:20260217T110000
DTEND;TZID=America/New_York:20260217T170000
DTSTAMP:20260420T213556
CREATED:20251204T210958Z
LAST-MODIFIED:20251227T173402Z
UID:1032-1771326000-1771347600@freecannacards.com
SUMMARY:The Villages/Summerfield - Insa Cannabis
DESCRIPTION:EVERY Tuesday (re-occurring) The Villages/Summerfield – Insa Cannabis 11am-5pm Located at: 11220 SE 179th Place Summerfield\, FL 34491 \n 
URL:https://freecannacards.com/event/summerfield-insa-cannabis-2-2-2-2-3-2-2-2-2-2-2-2-2-2-2-3-2-2-2-2-2-2-2-2-2-2-2-3/
LOCATION:Insa Cannabis\, 11220 SE 179th Place\, Summerfield\, FL\, 34491
END:VEVENT
BEGIN:VEVENT
DTSTART;TZID=America/New_York:20260219T150000
DTEND;TZID=America/New_York:20260219T200000
DTSTAMP:20260420T213556
CREATED:20251204T210211Z
LAST-MODIFIED:20251227T173414Z
UID:1016-1771513200-1771531200@freecannacards.com
SUMMARY:Lee Rd - Insa Cannabis
DESCRIPTION:EVERY Thursday (re-occurring) Lee Rd – Insa Cannabis 3pm – 8pm Located at: 640 Lee Rd\, Orlando\, FL 32810 \n 
URL:https://freecannacards.com/event/lee-rd-2-2-2-2-3-2-2-2-2-2-2-2-2-2-2-2-2-2-2-2-2-2-2-2-2-2-2-2-2-2-2-2-2-2-2-2-2-2-2-2-2-2/
LOCATION:Insa Cannabis Lee Road\, 640 Lee Rd\, Orlando\, FL\, 32810
END:VEVENT
BEGIN:VEVENT
DTSTART;VALUE=DATE:20260221
DTEND;VALUE=DATE:20260222
DTSTAMP:20260420T213556
CREATED:20260210T185130Z
LAST-MODIFIED:20260211T035816Z
UID:1223-1771632000-1771718399@freecannacards.com
SUMMARY:Droville Music Festival
DESCRIPTION:Saturday\, Feb 21st \nLocated at: 100 E Kennedy Blvd\, Eatonville FL 32751 \n 
URL:https://freecannacards.com/event/droville/
LOCATION:Droville Music Festival\, 100 E Kennedy Blvd\, Eatonville\, FL\, 32751
END:VEVENT
BEGIN:VEVENT
DTSTART;TZID=America/New_York:20260221T100000
DTEND;TZID=America/New_York:20260221T160000
DTSTAMP:20260420T213556
CREATED:20251210T191640Z
LAST-MODIFIED:20251225T231440Z
UID:1072-1771668000-1771689600@freecannacards.com
SUMMARY:East Colonial - Insa Cannabis
DESCRIPTION:EVERY Saturday (re-occurring) East Colonial – Insa Cannabis 10am – 4pm Located at: 7500 E Colonial Dr\, Orlando\, FL 32807  \n 
URL:https://freecannacards.com/event/east-colonial-insa-cannabis-2-2-2-2-2-2-2-2/
LOCATION:FL
END:VEVENT
BEGIN:VEVENT
DTSTART;TZID=America/New_York:20260224T110000
DTEND;TZID=America/New_York:20260224T170000
DTSTAMP:20260420T213556
CREATED:20251204T210855Z
LAST-MODIFIED:20251227T173422Z
UID:1030-1771930800-1771952400@freecannacards.com
SUMMARY:The Villages/Summerfield - Insa Cannabis
DESCRIPTION:EVERY Tuesday (re-occurring) The Villages/Summerfield – Insa Cannabis 11am-5pm Located at: 11220 SE 179th Place Summerfield\, FL 34491 \n 
URL:https://freecannacards.com/event/summerfield-insa-cannabis-2-2-2-2-3-2-2-2-2-2-2-2-2-2-2-3-2-2-2-2-2-2-2-2-2-2-2-2/
LOCATION:Insa Cannabis\, 11220 SE 179th Place\, Summerfield\, FL\, 34491
END:VEVENT
BEGIN:VEVENT
DTSTART;TZID=America/New_York:20260226T150000
DTEND;TZID=America/New_York:20260226T200000
DTSTAMP:20260420T213556
CREATED:20251210T191737Z
LAST-MODIFIED:20251227T173432Z
UID:1076-1772118000-1772136000@freecannacards.com
SUMMARY:Lee Rd - Insa Cannabis
DESCRIPTION:EVERY Thursday (re-occurring) Lee Rd – Insa Cannabis 3pm – 8pm Located at: 640 Lee Rd\, Orlando\, FL 32810 \n 
URL:https://freecannacards.com/event/lee-rd-2-2-2-2-3-2-2-2-2-2-2-2-2-2-2-2-2-2-2-2-2-2-2-2-2-2-2-2-2-2-2-2-2-2-2-2-2-2-2-2-2-2-2/
LOCATION:Insa Cannabis Lee Road\, 640 Lee Rd\, Orlando\, FL\, 32810
END:VEVENT
BEGIN:VEVENT
DTSTART;TZID=America/New_York:20260228T100000
DTEND;TZID=America/New_York:20260228T160000
DTSTAMP:20260420T213556
CREATED:20251210T191659Z
LAST-MODIFIED:20251225T231444Z
UID:1074-1772272800-1772294400@freecannacards.com
SUMMARY:East Colonial - Insa Cannabis
DESCRIPTION:EVERY Saturday (re-occurring) East Colonial – Insa Cannabis 10am – 4pm Located at: 7500 E Colonial Dr\, Orlando\, FL 32807  \n 
URL:https://freecannacards.com/event/east-colonial-insa-cannabis-2-2-2-2-2-2-2-2-2/
LOCATION:FL
END:VEVENT
BEGIN:VEVENT
DTSTART;TZID=America/New_York:20260303T110000
DTEND;TZID=America/New_York:20260303T170000
DTSTAMP:20260420T213556
CREATED:20260201T223028Z
LAST-MODIFIED:20260201T223028Z
UID:1204-1772535600-1772557200@freecannacards.com
SUMMARY:The Villages/Summerfield - Insa Cannabis
DESCRIPTION:EVERY Tuesday (re-occurring) The Villages/Summerfield – Insa Cannabis 11am-5pm Located at: 11220 SE 179th Place Summerfield\, FL 34491 \n 
URL:https://freecannacards.com/event/summerfield-insa-cannabis-2-2-2-2-3-2-2-2-2-2-2-2-2-2-2-3-2-2-2-2-2-2-2-2-2-2-2-2-2/
LOCATION:Insa Cannabis\, 11220 SE 179th Place\, Summerfield\, FL\, 34491
END:VEVENT
BEGIN:VEVENT
DTSTART;TZID=America/New_York:20260305T150000
DTEND;TZID=America/New_York:20260305T200000
DTSTAMP:20260420T213556
CREATED:20260201T222632Z
LAST-MODIFIED:20260201T222632Z
UID:1186-1772722800-1772740800@freecannacards.com
SUMMARY:Lee Rd - Insa Cannabis
DESCRIPTION:EVERY Thursday (re-occurring) Lee Rd – Insa Cannabis 3pm – 8pm Located at: 640 Lee Rd\, Orlando\, FL 32810 \n 
URL:https://freecannacards.com/event/lee-rd-2-2-2-2-3-2-2-2-2-2-2-2-2-2-2-2-2-2-2-2-2-2-2-2-2-2-2-2-2-2-2-2-2-2-2-2-2-2-2-2-2-2-2-2/
LOCATION:Insa Cannabis Lee Road\, 640 Lee Rd\, Orlando\, FL\, 32810
END:VEVENT
END:VCALENDAR