BEGIN:VCALENDAR
VERSION:2.0
PRODID:-//Free Canna Cards - ECPv6.15.13.1//NONSGML v1.0//EN
CALSCALE:GREGORIAN
METHOD:PUBLISH
X-ORIGINAL-URL:https://freecannacards.com
X-WR-CALDESC:Events for Free Canna Cards
REFRESH-INTERVAL;VALUE=DURATION:PT1H
X-Robots-Tag:noindex
X-PUBLISHED-TTL:PT1H
BEGIN:VTIMEZONE
TZID:America/New_York
BEGIN:DAYLIGHT
TZOFFSETFROM:-0500
TZOFFSETTO:-0400
TZNAME:EDT
DTSTART:20240310T070000
END:DAYLIGHT
BEGIN:STANDARD
TZOFFSETFROM:-0400
TZOFFSETTO:-0500
TZNAME:EST
DTSTART:20241103T060000
END:STANDARD
BEGIN:DAYLIGHT
TZOFFSETFROM:-0500
TZOFFSETTO:-0400
TZNAME:EDT
DTSTART:20250309T070000
END:DAYLIGHT
BEGIN:STANDARD
TZOFFSETFROM:-0400
TZOFFSETTO:-0500
TZNAME:EST
DTSTART:20251102T060000
END:STANDARD
BEGIN:DAYLIGHT
TZOFFSETFROM:-0500
TZOFFSETTO:-0400
TZNAME:EDT
DTSTART:20260308T070000
END:DAYLIGHT
BEGIN:STANDARD
TZOFFSETFROM:-0400
TZOFFSETTO:-0500
TZNAME:EST
DTSTART:20261101T060000
END:STANDARD
END:VTIMEZONE
BEGIN:VEVENT
DTSTART;TZID=America/New_York:20250805T100000
DTEND;TZID=America/New_York:20250805T180000
DTSTAMP:20260421T015138
CREATED:20250725T045111Z
LAST-MODIFIED:20250725T045111Z
UID:676-1754388000-1754416800@freecannacards.com
SUMMARY:The Villages/Summerfield - Insa Cannabis
DESCRIPTION:EVERY Tuesday (re-occurring) The Villages/Summerfield – Insa Cannabis 10am-6pm Located at: 11220 SE 179th Place Summerfield\, FL 34491
URL:https://freecannacards.com/event/the-pharm-stand-the-villages-2-2-2/
LOCATION:Insa Cannabis\, 11220 SE 179th Place\, Summerfield\, FL\, 34491
ATTACH;FMTTYPE=image/png:https://freecannacards.com/wp-content/uploads/2025/07/freeCANNAcards-1.png
END:VEVENT
BEGIN:VEVENT
DTSTART;TZID=America/New_York:20250809T090000
DTEND;TZID=America/New_York:20250809T180000
DTSTAMP:20260421T015138
CREATED:20250710T072914Z
LAST-MODIFIED:20250710T134224Z
UID:563-1754730000-1754762400@freecannacards.com
SUMMARY:AC Hotel St Johns Town Center
DESCRIPTION:Saturday 8/9 AC Hotel St Johns Town Center. 9am-6pm\, 5323 Big Island Drive\, Jacksonville\, FL 32246
URL:https://freecannacards.com/event/ac-hotel-st-johns-town-center/
LOCATION:AC Hotel Jacksonville St Johns Town Center\, 5323 Big Island Drive\, Jacksonville\, FL\, 32246
ATTACH;FMTTYPE=image/jpeg:https://freecannacards.com/wp-content/uploads/2025/07/ar-jaxae-jaxae-exterior-dusk-17985-36952_Feature-Hor.jpeg
END:VEVENT
BEGIN:VEVENT
DTSTART;TZID=America/New_York:20250812T100000
DTEND;TZID=America/New_York:20250812T180000
DTSTAMP:20260421T015138
CREATED:20250725T045300Z
LAST-MODIFIED:20250725T045300Z
UID:680-1754992800-1755021600@freecannacards.com
SUMMARY:The Villages/Summerfield - Insa Cannabis
DESCRIPTION:EVERY Tuesday (re-occurring) The Villages/Summerfield – Insa Cannabis 10am-6pm Located at: 11220 SE 179th Place Summerfield\, FL 34491
URL:https://freecannacards.com/event/the-pharm-stand-the-villages-2-2-2-2-2/
LOCATION:Insa Cannabis\, 11220 SE 179th Place\, Summerfield\, FL\, 34491
ATTACH;FMTTYPE=image/png:https://freecannacards.com/wp-content/uploads/2025/07/freeCANNAcards-1.png
END:VEVENT
BEGIN:VEVENT
DTSTART;TZID=America/New_York:20250819T100000
DTEND;TZID=America/New_York:20250819T180000
DTSTAMP:20260421T015138
CREATED:20250725T045137Z
LAST-MODIFIED:20250725T045232Z
UID:678-1755597600-1755626400@freecannacards.com
SUMMARY:The Villages/Summerfield - Insa Cannabis
DESCRIPTION:EVERY Tuesday (re-occurring) The Villages/Summerfield – Insa Cannabis 10am-6pm Located at: 11220 SE 179th Place Summerfield\, FL 34491
URL:https://freecannacards.com/event/the-pharm-stand-the-villages-2-2-2-2/
LOCATION:Insa Cannabis\, 11220 SE 179th Place\, Summerfield\, FL\, 34491
ATTACH;FMTTYPE=image/png:https://freecannacards.com/wp-content/uploads/2025/07/freeCANNAcards-1.png
END:VEVENT
BEGIN:VEVENT
DTSTART;TZID=America/New_York:20250821T150000
DTEND;TZID=America/New_York:20250821T190000
DTSTAMP:20260421T015138
CREATED:20250820T033017Z
LAST-MODIFIED:20250820T033017Z
UID:835-1755788400-1755802800@freecannacards.com
SUMMARY:Lee Rd - Insa Cannabis
DESCRIPTION:EVERY Thursday (re-occurring) Lee Rd – Insa Cannabis 3pm – 7pm Located at: 640 Lee Rd\, Orlando\, FL 32810
URL:https://freecannacards.com/event/the-pharm-stand-the-villages-2-2-2-2-3-2-2-2-2-2-2-2-2-2-2-2/
LOCATION:Insa Cannabis Lee Road\, 640 Lee Rd\, Orlando\, FL\, 32810
ATTACH;FMTTYPE=image/png:https://freecannacards.com/wp-content/uploads/2025/07/freeCANNAcards-1.png
END:VEVENT
BEGIN:VEVENT
DTSTART;TZID=America/New_York:20250826T100000
DTEND;TZID=America/New_York:20250826T180000
DTSTAMP:20260421T015138
CREATED:20250725T045324Z
LAST-MODIFIED:20250725T045324Z
UID:682-1756202400-1756231200@freecannacards.com
SUMMARY:The Villages/Summerfield - Insa Cannabis
DESCRIPTION:EVERY Tuesday (re-occurring) The Villages/Summerfield – Insa Cannabis 10am-6pm Located at: 11220 SE 179th Place Summerfield\, FL 34491
URL:https://freecannacards.com/event/the-pharm-stand-the-villages-2-2-2-2-3/
LOCATION:Insa Cannabis\, 11220 SE 179th Place\, Summerfield\, FL\, 34491
ATTACH;FMTTYPE=image/png:https://freecannacards.com/wp-content/uploads/2025/07/freeCANNAcards-1.png
END:VEVENT
BEGIN:VEVENT
DTSTART;TZID=America/New_York:20250828T150000
DTEND;TZID=America/New_York:20250828T190000
DTSTAMP:20260421T015138
CREATED:20250820T033101Z
LAST-MODIFIED:20250820T033101Z
UID:838-1756393200-1756407600@freecannacards.com
SUMMARY:Lee Rd - Insa Cannabis
DESCRIPTION:EVERY Thursday (re-occurring) Lee Rd – Insa Cannabis 3pm – 7pm Located at: 640 Lee Rd\, Orlando\, FL 32810
URL:https://freecannacards.com/event/the-pharm-stand-the-villages-2-2-2-2-3-2-2-2-2-2-2-2-2-2-2-2-2/
LOCATION:Insa Cannabis Lee Road\, 640 Lee Rd\, Orlando\, FL\, 32810
ATTACH;FMTTYPE=image/png:https://freecannacards.com/wp-content/uploads/2025/07/freeCANNAcards-1.png
END:VEVENT
BEGIN:VEVENT
DTSTART;TZID=America/New_York:20250830T140000
DTEND;TZID=America/New_York:20250830T220000
DTSTAMP:20260421T015138
CREATED:20250820T032715Z
LAST-MODIFIED:20250820T032715Z
UID:832-1756562400-1756591200@freecannacards.com
SUMMARY:Metamorphosis Fest Orlando
DESCRIPTION:Metamorphosis Fest Orlando FREE CANNA CARDS: \nOrlando Amphitheater\, Central Florida Fairgrounds \n2 pm – 10 pm 8/30/25 \n4603 W Colonial Dr\, Orlando\, FL 32808
URL:https://freecannacards.com/event/metamorphosis-fest-orlando/
LOCATION:Central Florida Fairgrounds\, 4603 W Colonial Dr\, Orlando\, FL\, 32808
END:VEVENT
END:VCALENDAR