BEGIN:VCALENDAR
VERSION:2.0
PRODID:-//Free Canna Cards - ECPv6.15.13.1//NONSGML v1.0//EN
CALSCALE:GREGORIAN
METHOD:PUBLISH
X-ORIGINAL-URL:https://freecannacards.com
X-WR-CALDESC:Events for Free Canna Cards
REFRESH-INTERVAL;VALUE=DURATION:PT1H
X-Robots-Tag:noindex
X-PUBLISHED-TTL:PT1H
BEGIN:VTIMEZONE
TZID:America/New_York
BEGIN:DAYLIGHT
TZOFFSETFROM:-0500
TZOFFSETTO:-0400
TZNAME:EDT
DTSTART:20240310T070000
END:DAYLIGHT
BEGIN:STANDARD
TZOFFSETFROM:-0400
TZOFFSETTO:-0500
TZNAME:EST
DTSTART:20241103T060000
END:STANDARD
BEGIN:DAYLIGHT
TZOFFSETFROM:-0500
TZOFFSETTO:-0400
TZNAME:EDT
DTSTART:20250309T070000
END:DAYLIGHT
BEGIN:STANDARD
TZOFFSETFROM:-0400
TZOFFSETTO:-0500
TZNAME:EST
DTSTART:20251102T060000
END:STANDARD
BEGIN:DAYLIGHT
TZOFFSETFROM:-0500
TZOFFSETTO:-0400
TZNAME:EDT
DTSTART:20260308T070000
END:DAYLIGHT
BEGIN:STANDARD
TZOFFSETFROM:-0400
TZOFFSETTO:-0500
TZNAME:EST
DTSTART:20261101T060000
END:STANDARD
END:VTIMEZONE
BEGIN:VEVENT
DTSTART;TZID=America/New_York:20251104T100000
DTEND;TZID=America/New_York:20251104T180000
DTSTAMP:20260420T195122
CREATED:20250725T045827Z
LAST-MODIFIED:20250725T045827Z
UID:702-1762250400-1762279200@freecannacards.com
SUMMARY:The Villages/Summerfield - Insa Cannabis
DESCRIPTION:EVERY Tuesday (re-occurring) The Villages/Summerfield – Insa Cannabis 10am-6pm Located at: 11220 SE 179th Place Summerfield\, FL 34491
URL:https://freecannacards.com/event/the-pharm-stand-the-villages-2-2-2-2-3-2-2-2-2-2-2-2-2-2-2/
LOCATION:Insa Cannabis\, 11220 SE 179th Place\, Summerfield\, FL\, 34491
ATTACH;FMTTYPE=image/png:https://freecannacards.com/wp-content/uploads/2025/07/freeCANNAcards-1.png
END:VEVENT
BEGIN:VEVENT
DTSTART;TZID=America/New_York:20251106T150000
DTEND;TZID=America/New_York:20251106T190000
DTSTAMP:20260420T195122
CREATED:20250820T033430Z
LAST-MODIFIED:20250820T033430Z
UID:858-1762441200-1762455600@freecannacards.com
SUMMARY:Lee Rd - Insa Cannabis
DESCRIPTION:EVERY Thursday (re-occurring) Lee Rd – Insa Cannabis 3pm – 7pm Located at: 640 Lee Rd\, Orlando\, FL 32810
URL:https://freecannacards.com/event/the-pharm-stand-the-villages-2-2-2-2-3-2-2-2-2-2-2-2-2-2-2-2-2-2-2-2-2-2-2-2-2-2-2/
LOCATION:Insa Cannabis Lee Road\, 640 Lee Rd\, Orlando\, FL\, 32810
ATTACH;FMTTYPE=image/png:https://freecannacards.com/wp-content/uploads/2025/07/freeCANNAcards-1.png
END:VEVENT
BEGIN:VEVENT
DTSTART;TZID=America/New_York:20251111T100000
DTEND;TZID=America/New_York:20251111T180000
DTSTAMP:20260420T195122
CREATED:20250820T033652Z
LAST-MODIFIED:20250820T033652Z
UID:874-1762855200-1762884000@freecannacards.com
SUMMARY:The Villages/Summerfield - Insa Cannabis
DESCRIPTION:EVERY Tuesday (re-occurring) The Villages/Summerfield – Insa Cannabis 10am-6pm Located at: 11220 SE 179th Place Summerfield\, FL 34491
URL:https://freecannacards.com/event/the-pharm-stand-the-villages-2-2-2-2-3-2-2-2-2-2-2-2-2-2-2-3/
LOCATION:Insa Cannabis\, 11220 SE 179th Place\, Summerfield\, FL\, 34491
ATTACH;FMTTYPE=image/png:https://freecannacards.com/wp-content/uploads/2025/07/freeCANNAcards-1.png
END:VEVENT
BEGIN:VEVENT
DTSTART;TZID=America/New_York:20251113T150000
DTEND;TZID=America/New_York:20251113T190000
DTSTAMP:20260420T195122
CREATED:20250820T033450Z
LAST-MODIFIED:20250820T033450Z
UID:860-1763046000-1763060400@freecannacards.com
SUMMARY:Lee Rd - Insa Cannabis
DESCRIPTION:EVERY Thursday (re-occurring) Lee Rd – Insa Cannabis 3pm – 7pm Located at: 640 Lee Rd\, Orlando\, FL 32810
URL:https://freecannacards.com/event/the-pharm-stand-the-villages-2-2-2-2-3-2-2-2-2-2-2-2-2-2-2-2-2-2-2-2-2-2-2-2-2-2-2-2/
LOCATION:Insa Cannabis Lee Road\, 640 Lee Rd\, Orlando\, FL\, 32810
ATTACH;FMTTYPE=image/png:https://freecannacards.com/wp-content/uploads/2025/07/freeCANNAcards-1.png
END:VEVENT
BEGIN:VEVENT
DTSTART;TZID=America/New_York:20251118T100000
DTEND;TZID=America/New_York:20251118T180000
DTSTAMP:20260420T195122
CREATED:20250820T033755Z
LAST-MODIFIED:20250820T033755Z
UID:878-1763460000-1763488800@freecannacards.com
SUMMARY:The Villages/Summerfield - Insa Cannabis
DESCRIPTION:EVERY Tuesday (re-occurring) The Villages/Summerfield – Insa Cannabis 10am-6pm Located at: 11220 SE 179th Place Summerfield\, FL 34491
URL:https://freecannacards.com/event/the-pharm-stand-the-villages-2-2-2-2-3-2-2-2-2-2-2-2-2-2-2-3-3/
LOCATION:Insa Cannabis\, 11220 SE 179th Place\, Summerfield\, FL\, 34491
ATTACH;FMTTYPE=image/png:https://freecannacards.com/wp-content/uploads/2025/07/freeCANNAcards-1.png
END:VEVENT
BEGIN:VEVENT
DTSTART;TZID=America/New_York:20251120T150000
DTEND;TZID=America/New_York:20251120T190000
DTSTAMP:20260420T195122
CREATED:20250820T033506Z
LAST-MODIFIED:20250820T033506Z
UID:862-1763650800-1763665200@freecannacards.com
SUMMARY:Lee Rd - Insa Cannabis
DESCRIPTION:EVERY Thursday (re-occurring) Lee Rd – Insa Cannabis 3pm – 7pm Located at: 640 Lee Rd\, Orlando\, FL 32810
URL:https://freecannacards.com/event/the-pharm-stand-the-villages-2-2-2-2-3-2-2-2-2-2-2-2-2-2-2-2-2-2-2-2-2-2-2-2-2-2-2-2-2/
LOCATION:Insa Cannabis Lee Road\, 640 Lee Rd\, Orlando\, FL\, 32810
ATTACH;FMTTYPE=image/png:https://freecannacards.com/wp-content/uploads/2025/07/freeCANNAcards-1.png
END:VEVENT
BEGIN:VEVENT
DTSTART;TZID=America/New_York:20251122T083000
DTEND;TZID=America/New_York:20251122T173000
DTSTAMP:20260420T195122
CREATED:20251105T020628Z
LAST-MODIFIED:20251105T020628Z
UID:961-1763800200-1763832600@freecannacards.com
SUMMARY:West Palm Beach - Belgrove Resort
DESCRIPTION:Join us at the Belgrove Resort in West Palm Beach! \nSaturday 11/22 8:30 am – 5:30 pm \n2020 Banyan Resort Wy\, West Palm Beach\, FL 33401
URL:https://freecannacards.com/event/west-palm-beach-belgrove-resort/
LOCATION:Belgrove Resort West Palm Beach\, 2020 Banyan Resort Wy\, West Palm Beach\, 33401\, United States
END:VEVENT
BEGIN:VEVENT
DTSTART;TZID=America/New_York:20251123T083000
DTEND;TZID=America/New_York:20251123T173000
DTSTAMP:20260420T195122
CREATED:20251104T194629Z
LAST-MODIFIED:20251104T194629Z
UID:958-1763886600-1763919000@freecannacards.com
SUMMARY:Boca Raton Marriott
DESCRIPTION:Join us at our event in Boca Raton Florida! \nBoca Raton Marriott at Boca Center \nSunday November 23rd 8:30 am – 5:30 pm \n5150 Town Center Circle\, Boca Raton\, Florida 33486
URL:https://freecannacards.com/event/boca-raton-marriott/
LOCATION:Boca Raton Marriott\, 5150 Town Center Circle\, Boca Raton\, FL\, 33486\, United States
END:VEVENT
BEGIN:VEVENT
DTSTART;TZID=America/New_York:20251125T100000
DTEND;TZID=America/New_York:20251125T180000
DTSTAMP:20260420T195122
CREATED:20250820T033711Z
LAST-MODIFIED:20250820T033731Z
UID:876-1764064800-1764093600@freecannacards.com
SUMMARY:The Villages/Summerfield - Insa Cannabis
DESCRIPTION:EVERY Tuesday (re-occurring) The Villages/Summerfield – Insa Cannabis 10am-6pm Located at: 11220 SE 179th Place Summerfield\, FL 34491
URL:https://freecannacards.com/event/the-pharm-stand-the-villages-2-2-2-2-3-2-2-2-2-2-2-2-2-2-2-3-2/
LOCATION:Insa Cannabis\, 11220 SE 179th Place\, Summerfield\, FL\, 34491
ATTACH;FMTTYPE=image/png:https://freecannacards.com/wp-content/uploads/2025/07/freeCANNAcards-1.png
END:VEVENT
BEGIN:VEVENT
DTSTART;TZID=America/New_York:20251127T150000
DTEND;TZID=America/New_York:20251127T190000
DTSTAMP:20260420T195122
CREATED:20250820T033521Z
LAST-MODIFIED:20250820T033521Z
UID:864-1764255600-1764270000@freecannacards.com
SUMMARY:Lee Rd - Insa Cannabis
DESCRIPTION:EVERY Thursday (re-occurring) Lee Rd – Insa Cannabis 3pm – 7pm Located at: 640 Lee Rd\, Orlando\, FL 32810
URL:https://freecannacards.com/event/the-pharm-stand-the-villages-2-2-2-2-3-2-2-2-2-2-2-2-2-2-2-2-2-2-2-2-2-2-2-2-2-2-2-2-2-2/
LOCATION:Insa Cannabis Lee Road\, 640 Lee Rd\, Orlando\, FL\, 32810
ATTACH;FMTTYPE=image/png:https://freecannacards.com/wp-content/uploads/2025/07/freeCANNAcards-1.png
END:VEVENT
END:VCALENDAR