BEGIN:VCALENDAR
VERSION:2.0
PRODID:-//Free Canna Cards - ECPv6.15.13.1//NONSGML v1.0//EN
CALSCALE:GREGORIAN
METHOD:PUBLISH
X-WR-CALNAME:Free Canna Cards
X-ORIGINAL-URL:https://freecannacards.com
X-WR-CALDESC:Events for Free Canna Cards
REFRESH-INTERVAL;VALUE=DURATION:PT1H
X-Robots-Tag:noindex
X-PUBLISHED-TTL:PT1H
BEGIN:VTIMEZONE
TZID:America/New_York
BEGIN:DAYLIGHT
TZOFFSETFROM:-0500
TZOFFSETTO:-0400
TZNAME:EDT
DTSTART:20240310T070000
END:DAYLIGHT
BEGIN:STANDARD
TZOFFSETFROM:-0400
TZOFFSETTO:-0500
TZNAME:EST
DTSTART:20241103T060000
END:STANDARD
BEGIN:DAYLIGHT
TZOFFSETFROM:-0500
TZOFFSETTO:-0400
TZNAME:EDT
DTSTART:20250309T070000
END:DAYLIGHT
BEGIN:STANDARD
TZOFFSETFROM:-0400
TZOFFSETTO:-0500
TZNAME:EST
DTSTART:20251102T060000
END:STANDARD
BEGIN:DAYLIGHT
TZOFFSETFROM:-0500
TZOFFSETTO:-0400
TZNAME:EDT
DTSTART:20260308T070000
END:DAYLIGHT
BEGIN:STANDARD
TZOFFSETFROM:-0400
TZOFFSETTO:-0500
TZNAME:EST
DTSTART:20261101T060000
END:STANDARD
END:VTIMEZONE
BEGIN:VEVENT
DTSTART;TZID=America/New_York:20251202T100000
DTEND;TZID=America/New_York:20251202T180000
DTSTAMP:20260420T182525
CREATED:20250820T033813Z
LAST-MODIFIED:20250820T033813Z
UID:880-1764669600-1764698400@freecannacards.com
SUMMARY:The Villages/Summerfield - Insa Cannabis
DESCRIPTION:EVERY Tuesday (re-occurring) The Villages/Summerfield – Insa Cannabis 10am-6pm Located at: 11220 SE 179th Place Summerfield\, FL 34491
URL:https://freecannacards.com/event/the-pharm-stand-the-villages-2-2-2-2-3-2-2-2-2-2-2-2-2-2-2-3-2-2/
LOCATION:Insa Cannabis\, 11220 SE 179th Place\, Summerfield\, FL\, 34491
ATTACH;FMTTYPE=image/png:https://freecannacards.com/wp-content/uploads/2025/07/freeCANNAcards-1.png
END:VEVENT
BEGIN:VEVENT
DTSTART;TZID=America/New_York:20251204T150000
DTEND;TZID=America/New_York:20251204T190000
DTSTAMP:20260420T182525
CREATED:20250820T033542Z
LAST-MODIFIED:20250820T033542Z
UID:866-1764860400-1764874800@freecannacards.com
SUMMARY:Lee Rd - Insa Cannabis
DESCRIPTION:EVERY Thursday (re-occurring) Lee Rd – Insa Cannabis 3pm – 7pm Located at: 640 Lee Rd\, Orlando\, FL 32810
URL:https://freecannacards.com/event/the-pharm-stand-the-villages-2-2-2-2-3-2-2-2-2-2-2-2-2-2-2-2-2-2-2-2-2-2-2-2-2-2-2-2-2-2-2/
LOCATION:Insa Cannabis Lee Road\, 640 Lee Rd\, Orlando\, FL\, 32810
ATTACH;FMTTYPE=image/png:https://freecannacards.com/wp-content/uploads/2025/07/freeCANNAcards-1.png
END:VEVENT
BEGIN:VEVENT
DTSTART;TZID=America/New_York:20251209T110000
DTEND;TZID=America/New_York:20251209T170000
DTSTAMP:20260420T182525
CREATED:20250820T033832Z
LAST-MODIFIED:20251204T205140Z
UID:882-1765278000-1765299600@freecannacards.com
SUMMARY:The Villages/Summerfield - Insa Cannabis
DESCRIPTION:EVERY Tuesday (re-occurring) The Villages/Summerfield – Insa Cannabis 11am-5pm Located at: 11220 SE 179th Place Summerfield\, FL 34491 \nBook an Appointment
URL:https://freecannacards.com/event/the-pharm-stand-the-villages-2-2-2-2-3-2-2-2-2-2-2-2-2-2-2-3-2-2-2/
LOCATION:Insa Cannabis\, 11220 SE 179th Place\, Summerfield\, FL\, 34491
ATTACH;FMTTYPE=image/png:https://freecannacards.com/wp-content/uploads/2025/07/freeCANNAcards-1.png
END:VEVENT
BEGIN:VEVENT
DTSTART;TZID=America/New_York:20251211T150000
DTEND;TZID=America/New_York:20251211T200000
DTSTAMP:20260420T182525
CREATED:20250820T033601Z
LAST-MODIFIED:20251204T205530Z
UID:868-1765465200-1765483200@freecannacards.com
SUMMARY:Lee Rd - Insa Cannabis
DESCRIPTION:EVERY Thursday (re-occurring) Lee Rd – Insa Cannabis 3pm – 8pm Located at: 640 Lee Rd\, Orlando\, FL 32810 \nBook an Appointment
URL:https://freecannacards.com/event/the-pharm-stand-the-villages-2-2-2-2-3-2-2-2-2-2-2-2-2-2-2-2-2-2-2-2-2-2-2-2-2-2-2-2-2-2-2-2/
LOCATION:Insa Cannabis Lee Road\, 640 Lee Rd\, Orlando\, FL\, 32810
ATTACH;FMTTYPE=image/png:https://freecannacards.com/wp-content/uploads/2025/07/freeCANNAcards-1.png
END:VEVENT
BEGIN:VEVENT
DTSTART;TZID=America/New_York:20251216T110000
DTEND;TZID=America/New_York:20251216T170000
DTSTAMP:20260420T182525
CREATED:20250820T033851Z
LAST-MODIFIED:20251204T205244Z
UID:884-1765882800-1765904400@freecannacards.com
SUMMARY:The Villages/Summerfield - Insa Cannabis
DESCRIPTION:EVERY Tuesday (re-occurring) The Villages/Summerfield – Insa Cannabis 11am-5pm Located at: 11220 SE 179th Place Summerfield\, FL 34491 \nBook an Appointment
URL:https://freecannacards.com/event/the-pharm-stand-the-villages-2-2-2-2-3-2-2-2-2-2-2-2-2-2-2-3-2-2-2-2/
LOCATION:Insa Cannabis\, 11220 SE 179th Place\, Summerfield\, FL\, 34491
ATTACH;FMTTYPE=image/png:https://freecannacards.com/wp-content/uploads/2025/07/freeCANNAcards-1.png
END:VEVENT
BEGIN:VEVENT
DTSTART;TZID=America/New_York:20251218T150000
DTEND;TZID=America/New_York:20251218T200000
DTSTAMP:20260420T182525
CREATED:20250820T033615Z
LAST-MODIFIED:20251204T205622Z
UID:870-1766070000-1766088000@freecannacards.com
SUMMARY:Lee Rd - Insa Cannabis
DESCRIPTION:EVERY Thursday (re-occurring) Lee Rd – Insa Cannabis 3pm – 8pm Located at: 640 Lee Rd\, Orlando\, FL 32810 \nBook an Appointment
URL:https://freecannacards.com/event/the-pharm-stand-the-villages-2-2-2-2-3-2-2-2-2-2-2-2-2-2-2-2-2-2-2-2-2-2-2-2-2-2-2-2-2-2-2-2-2/
LOCATION:Insa Cannabis Lee Road\, 640 Lee Rd\, Orlando\, FL\, 32810
ATTACH;FMTTYPE=image/png:https://freecannacards.com/wp-content/uploads/2025/07/freeCANNAcards-1.png
END:VEVENT
BEGIN:VEVENT
DTSTART;TZID=America/New_York:20251220T100000
DTEND;TZID=America/New_York:20251220T160000
DTSTAMP:20260420T182525
CREATED:20251210T190949Z
LAST-MODIFIED:20251224T205157Z
UID:1052-1766224800-1766246400@freecannacards.com
SUMMARY:East Colonial - Insa Cannabis
DESCRIPTION:EVERY Saturday (re-occurring) East Colonial – Insa Cannabis 10am – 4pm Located at: 640 Lee Rd\, Orlando\, FL 32810 \nBook an Appointment
URL:https://freecannacards.com/event/east-colonial-insa-cannabis/
LOCATION:FL
END:VEVENT
BEGIN:VEVENT
DTSTART;TZID=America/New_York:20251223T110000
DTEND;TZID=America/New_York:20251223T170000
DTSTAMP:20260420T182525
CREATED:20250820T033910Z
LAST-MODIFIED:20251224T205858Z
UID:886-1766487600-1766509200@freecannacards.com
SUMMARY:The Villages/Summerfield - Insa Cannabis
DESCRIPTION:EVERY Tuesday (re-occurring) The Villages/Summerfield – Insa Cannabis 11am-5pm Located at: 11220 SE 179th Place Summerfield\, FL 34491 \n 
URL:https://freecannacards.com/event/the-pharm-stand-the-villages-2-2-2-2-3-2-2-2-2-2-2-2-2-2-2-3-2-2-2-2-2/
LOCATION:Insa Cannabis\, 11220 SE 179th Place\, Summerfield\, FL\, 34491
ATTACH;FMTTYPE=image/png:https://freecannacards.com/wp-content/uploads/2025/07/freeCANNAcards-1.png
END:VEVENT
BEGIN:VEVENT
DTSTART;TZID=America/New_York:20251225T150000
DTEND;TZID=America/New_York:20251225T200000
DTSTAMP:20260420T182525
CREATED:20250820T033631Z
LAST-MODIFIED:20251225T230214Z
UID:872-1766674800-1766692800@freecannacards.com
SUMMARY:Lee Rd - Insa Cannabis
DESCRIPTION:EVERY Thursday (re-occurring) Lee Rd – Insa Cannabis 3pm – 8pm Located at: 640 Lee Rd\, Orlando\, FL 32810  \n 
URL:https://freecannacards.com/event/the-pharm-stand-the-villages-2-2-2-2-3-2-2-2-2-2-2-2-2-2-2-2-2-2-2-2-2-2-2-2-2-2-2-2-2-2-2-2-2-2/
LOCATION:Insa Cannabis Lee Road\, 640 Lee Rd\, Orlando\, FL\, 32810
ATTACH;FMTTYPE=image/png:https://freecannacards.com/wp-content/uploads/2025/07/freeCANNAcards-1.png
END:VEVENT
BEGIN:VEVENT
DTSTART;TZID=America/New_York:20251227T100000
DTEND;TZID=America/New_York:20251227T160000
DTSTAMP:20260420T182525
CREATED:20251210T191135Z
LAST-MODIFIED:20251225T231312Z
UID:1056-1766829600-1766851200@freecannacards.com
SUMMARY:East Colonial - Insa Cannabis
DESCRIPTION:EVERY Saturday (re-occurring) East Colonial – Insa Cannabis 10am – 4pm Located at: 7500 E Colonial Dr\, Orlando\, FL 32807  \n 
URL:https://freecannacards.com/event/east-colonial-insa-cannabis-2/
LOCATION:FL
END:VEVENT
BEGIN:VEVENT
DTSTART;TZID=America/New_York:20251230T110000
DTEND;TZID=America/New_York:20251230T170000
DTSTAMP:20260420T182525
CREATED:20250820T033929Z
LAST-MODIFIED:20251227T204335Z
UID:888-1767092400-1767114000@freecannacards.com
SUMMARY:The Villages/Summerfield - Insa Cannabis
DESCRIPTION:EVERY Tuesday (re-occurring) The Villages/Summerfield – Insa Cannabis 11am-5pm Located at: 11220 SE 179th Place Summerfield\, FL 34491 \n 
URL:https://freecannacards.com/event/summerfield-insa-cannabis-2-2-2-2-3-2-2-2-2-2-2-2-2-2-2-3-2-2-2-2-2-2/
LOCATION:Insa Cannabis\, 11220 SE 179th Place\, Summerfield\, FL\, 34491
END:VEVENT
END:VCALENDAR